BEGIN:VCALENDAR
VERSION:2.0
PRODID:icalendar-ruby
CALSCALE:GREGORIAN
METHOD:PUBLISH
BEGIN:VEVENT
DTSTAMP:20260424T054304Z
UID:12-1861048@pg-christianchurch.com
DTSTART:20261027T130000Z
DTEND:20261027T140000Z
CLASS:PUBLIC
CREATED:20260423T233731
DESCRIPTION:
LAST-MODIFIED:20260423T233731
LOCATION:
SUMMARY:Tues AM Small Group
URL;VALUE=URI:https://pg-christianchurch.com/events/tues-am-small-group/202
 6-10-27
END:VEVENT
END:VCALENDAR
