BEGIN:VCALENDAR
VERSION:2.0
PRODID:icalendar-ruby
CALSCALE:GREGORIAN
METHOD:PUBLISH
BEGIN:VEVENT
DTSTAMP:20260420T200725Z
UID:5-1839720@pg-christianchurch.com
DTSTART:20261101T150000Z
DTEND:20261101T160000Z
CLASS:PUBLIC
CREATED:20260420T163410
DESCRIPTION:Sunday Worship
LAST-MODIFIED:20260420T163410
LOCATION:
SUMMARY:Sunday Worship
URL;VALUE=URI:https://pg-christianchurch.com/events/sunday-worship/2026-11-
 01
END:VEVENT
END:VCALENDAR
