BEGIN:VCALENDAR
VERSION:2.0
PRODID:icalendar-ruby
CALSCALE:GREGORIAN
METHOD:PUBLISH
BEGIN:VEVENT
DTSTAMP:20260420T183540Z
UID:5-1838669@pg-christianchurch.com
DTSTART:20261025T140000Z
DTEND:20261025T150000Z
CLASS:PUBLIC
CREATED:20260420T135925
DESCRIPTION:Sunday Worship
LAST-MODIFIED:20260420T135925
LOCATION:
SUMMARY:Sunday Worship
URL;VALUE=URI:https://pg-christianchurch.com/events/sunday-worship/2026-10-
 25
END:VEVENT
END:VCALENDAR
